BEGIN:VCALENDAR
PRODID:-//eluceo/ical//2.0/EN
VERSION:2.0
CALSCALE:GREGORIAN
BEGIN:VEVENT
UID:event-292
DTSTAMP:20260426T030259Z
SUMMARY:Parents Day
DESCRIPTION:On the 12th of June the Parents Day will take place again. Your
  parents can walk in from 10.30 and at 11.00 the day will start with a pre
 sentation in the Trappenzaal! Afterwards\, the parents get a tour around 
 campus and then they will have some lunch. At 14.00 they will learn a lot 
 during a lecture given by a teacher. Then they will make their way to a w
 orkshop. They will end the day in the Skybar around 16.30 and then they ca
 n have a drink and chat with each other.
DTSTART:20260612T083000Z
DTEND:20260612T150000Z
END:VEVENT
BEGIN:VTIMEZONE
TZID:UTC
BEGIN:STANDARD
DTSTART:20260612T083000
TZNAME:UTC
TZOFFSETTO:+0000
TZOFFSETFROM:+0000
END:STANDARD
END:VTIMEZONE
END:VCALENDAR
