BEGIN:VCALENDAR
PRODID:-//eluceo/ical//2.0/EN
VERSION:2.0
CALSCALE:GREGORIAN
BEGIN:VEVENT
UID:event-290
DTSTAMP:20260426T030801Z
SUMMARY:RoosRos excursion
DESCRIPTION:Programme 13.15    Welcome 13:30 RoosRos presentation – 
 Lorentz Casimir Lyceum project 14:30 Break 14:45 Guided tour 16:30 C
 onclusion Excursion: Lorentz Casimir Lyceum During this excursion\, TU/e s
 tudents will visit the Lorentz Casimir Lyceum in Eindhoven\, a recently
  completed secondary school designed by RoosRos. The programme starts with
  a presentation on the project\, followed by a guided tour of the building
 . The design reflects RoosRos’ approach to creating healthy\, future‑o
 riented learning environments\, where architecture supports interaction\, 
 curiosity and flexibility. The building is characterised by a light and tr
 ansparent layout\, strong connections to the surrounding landscape and a c
 lear\, readable structure. Sustainable and circular choices—such as the 
 use of reused donor steel and biobased materials—play a key role\, both 
 technically and conceptually. During the excursion\, students will gain in
 sight into how educational vision\, spatial quality and sustainability amb
 itions are translated into a coherent architectural design. Topics such as
  circular construction\, material choices\, functionality and the relation
 ship between building and users will be discussed\, offering a meaningful 
 link between academic theory and professional architectural practice.
DTSTART:20260610T104500Z
DTEND:20260610T143000Z
END:VEVENT
BEGIN:VTIMEZONE
TZID:UTC
BEGIN:STANDARD
DTSTART:20260610T104500
TZNAME:UTC
TZOFFSETTO:+0000
TZOFFSETFROM:+0000
END:STANDARD
END:VTIMEZONE
END:VCALENDAR
