BEGIN:VCALENDAR
PRODID:-//eluceo/ical//2.0/EN
VERSION:2.0
CALSCALE:GREGORIAN
BEGIN:VEVENT
UID:event-289
DTSTAMP:20260426T030633Z
SUMMARY:Teacher Of The Year Award (TOTY)
DESCRIPTION:Come to the Teacher of the Year Awards ceremony on the 4th of J
 une from 15.30 until 16.30 to see if your favorite teacher gets to receive
  an award for their incredible teaching skills this year!  There will be 
 something to drink and snack on for during the ceremony and afterwards you
  will receive 2 free coins for the Plugged! Festival on the Koefield which
  begins at 16.30!  We hope to see you there!
DTSTART:20260604T133000Z
DTEND:20260604T143000Z
END:VEVENT
BEGIN:VTIMEZONE
TZID:UTC
BEGIN:STANDARD
DTSTART:20260604T133000
TZNAME:UTC
TZOFFSETTO:+0000
TZOFFSETFROM:+0000
END:STANDARD
END:VTIMEZONE
END:VCALENDAR
